BEGIN:VCALENDAR
VERSION:2.0
PRODID:-//hacksw/handcal//NONSGML v1.0//EN
CALSCALE:GREGORIAN
BEGIN:VTIMEZONE
TZID:America/Chicago
BEGIN:DAYLIGHT
TZOFFSETFROM:-0600
TZNAME:MDT
TZOFFSETTO:-0600
END:DAYLIGHT
END:VTIMEZONE
DTSTAMP:20260422T141526Z
UID:69e91e4e1ae83
BEGIN:VEVENT
DESCRIPTION:<p>Nursery rhymes, scarf dances, and so much more! On Tuesdays at 10:30 am, join our All Ages Story Time that incorporates music into learning early literacy skills.&nbsp;</p>

DTSTART;TZID=America/Chicago:20241119T093000
DTEND;TZID=America/Chicago:20241119T103000
SUMMARY:Music & Movement Story Time (Fall Sessions)
URL;VALUE=URI:/music-movement-story-time-fall-sessions-11
END:VEVENT
END:VCALENDAR